BEGIN:VCALENDAR
VERSION:2.0
PRODID:-//GV Ballet - ECPv5.0.2//NONSGML v1.0//EN
CALSCALE:GREGORIAN
METHOD:PUBLISH
X-WR-CALNAME:GV Ballet
X-ORIGINAL-URL:https://gvballet.com.au
X-WR-CALDESC:Events for GV Ballet
BEGIN:VTIMEZONE
TZID:UTC
BEGIN:STANDARD
TZOFFSETFROM:+0000
TZOFFSETTO:+0000
TZNAME:UTC
DTSTART:20160101T000000
END:STANDARD
END:VTIMEZONE
BEGIN:VEVENT
DTSTART;TZID=UTC:20161009T080000
DTEND;TZID=UTC:20161009T170000
DTSTAMP:20200301T230427
CREATED:20160406T075956Z
LAST-MODIFIED:20160406T075956Z
UID:3537-1476000000-1476032400@gvballet.com.au
SUMMARY:Cecchetti Choreographic Competition (Doncaster)
DESCRIPTION:
URL:https://gvballet.com.au/event/cecchetti-choreographic-competition-doncaster/
END:VEVENT
END:VCALENDAR